BEGIN:VCALENDAR
VERSION:2.0
PRODID:-//Alaskan Malamute Club e.V. - ECPv6.2.1//NONSGML v1.0//EN
CALSCALE:GREGORIAN
METHOD:PUBLISH
X-ORIGINAL-URL:https://www.alaskan-malamute.org
X-WR-CALDESC:Veranstaltungen für Alaskan Malamute Club e.V.
REFRESH-INTERVAL;VALUE=DURATION:PT1H
X-Robots-Tag:noindex
X-PUBLISHED-TTL:PT1H
BEGIN:VTIMEZONE
TZID:Europe/Berlin
BEGIN:DAYLIGHT
TZOFFSETFROM:+0100
TZOFFSETTO:+0200
TZNAME:CEST
DTSTART:20190331T010000
END:DAYLIGHT
BEGIN:STANDARD
TZOFFSETFROM:+0200
TZOFFSETTO:+0100
TZNAME:CET
DTSTART:20191027T010000
END:STANDARD
END:VTIMEZONE
BEGIN:VEVENT
DTSTART;VALUE=DATE:20191208
DTEND;VALUE=DATE:20191209
DTSTAMP:20260425T190949
CREATED:20191110T233627Z
LAST-MODIFIED:20191118T181815Z
UID:28136-1575763200-1575849599@www.alaskan-malamute.org
SUMMARY:Internationale Rassehunde-Ausstellung Kassel
DESCRIPTION:Der AMC betreut am 08.12.2019 die „Internationale Rassehunde-Ausstellung Kassel“. \n1. Meldeschluss: 15. Oktober 2019 \n2. Meldeschluss: 09. November 2019
URL:https://www.alaskan-malamute.org/event/internationale-rassehunde-ausstellung-kassel/
LOCATION:Messe Kassel\, Damaschkestraße 55\, Kassel\, Hessen\, 34121\, Deutschland
CATEGORIES:VDH Veranstaltungen
ATTACH;FMTTYPE=image/jpeg:https://www.alaskan-malamute.org/wp-content/uploads/2019/11/kassel.jpg
ORGANIZER;CN="VDH%20Landesverband%20Hessen":MAILTO:IngridHain@t-online.de
END:VEVENT
END:VCALENDAR