BEGIN:VCALENDAR
VERSION:2.0
PRODID:-//Alaskan Malamute Club e.V. - ECPv6.2.1//NONSGML v1.0//EN
CALSCALE:GREGORIAN
METHOD:PUBLISH
X-WR-CALNAME:Alaskan Malamute Club e.V.
X-ORIGINAL-URL:https://www.alaskan-malamute.org
X-WR-CALDESC:Veranstaltungen für Alaskan Malamute Club e.V.
REFRESH-INTERVAL;VALUE=DURATION:PT1H
X-Robots-Tag:noindex
X-PUBLISHED-TTL:PT1H
BEGIN:VTIMEZONE
TZID:Europe/Berlin
BEGIN:DAYLIGHT
TZOFFSETFROM:+0100
TZOFFSETTO:+0200
TZNAME:CEST
DTSTART:20220327T010000
END:DAYLIGHT
BEGIN:STANDARD
TZOFFSETFROM:+0200
TZOFFSETTO:+0100
TZNAME:CET
DTSTART:20221030T010000
END:STANDARD
END:VTIMEZONE
BEGIN:VEVENT
DTSTART;TZID=Europe/Berlin:20220605T083000
DTEND;TZID=Europe/Berlin:20220605T163000
DTSTAMP:20260423T214750
CREATED:20211116T210211Z
LAST-MODIFIED:20220510T174215Z
UID:30756-1654417800-1654446600@www.alaskan-malamute.org
SUMMARY:Clubsiegerschau AMC e.V. Reichshof Pfingsten 2022
DESCRIPTION:Am Sonntag den 05.06.2022 veranstaltet der Alaskan Malamute Club e.V. seine Clubsiegerschau\nmit Vergabe der Anwartschaften \nDeutscher Champion (VDH)\, Jugend-Champion (VDH)\,Veteranen-Champion (VDH)\, \nDeutscher Champion (AMC)\, Deutscher Jugend –Champion (AMC)\, Deutscher Veteranen Champion (AMC) \nerster Meldeschluss am 01.05.2022 (Eingang in Neunkirchen) \nzweiter (offizieller) Meldeschluss am 20.05.2022 (Eingang in Neunkirchen) \n\n\n\n\n\nZuchtrichter: Rita Liebrand NL \nIm Anschluss an das Richten findet die ZZL statt\nbitte frühzeitig (spätestens 08.05.2022) die Meldungen zur ZZL. \nBitte über das Intranet mit Onlineformular melden.
URL:https://www.alaskan-malamute.org/event/clubsiegerschau-amc-e-v-reichshof-pfingsten-2022/
LOCATION:Hundeplatz Reichshof Niedersteimel\, Verein für Deutsche Schäferhunde Reichshof-Eckenhagen\, Reichshof Niedersteimel\, Nordrhein Westfalen\, 51580\, Deutschland
CATEGORIES:AMC Veranstaltungen
ATTACH;FMTTYPE=image/jpeg:https://www.alaskan-malamute.org/wp-content/uploads/2021/11/conan-bob-karlsruhe-9monate-1.jpg
ORGANIZER;CN="Alaskan%20Malamute%20Club%20e.V.":MAILTO:show@alaskan-malamute.org
END:VEVENT
BEGIN:VEVENT
DTSTART;TZID=Europe/Berlin:20220605T140000
DTEND;TZID=Europe/Berlin:20220605T170000
DTSTAMP:20260423T214750
CREATED:20211117T120533Z
LAST-MODIFIED:20220510T172541Z
UID:30771-1654437600-1654448400@www.alaskan-malamute.org
SUMMARY:Zuchtzulassung im AMC e.V. Reichshof Pfingsten 2022
DESCRIPTION:Im Rahmen der Clubsiegershow am 05.06.2022 findet die Zuchtzulassung im AMC e.V. statt.\nIm Anschluss an das Richten findet die ZZL statt\nbitte frühzeitig (spätestens 08.05.2022) die Meldungen zur ZZL. \nBitte über das Intranet mit Onlineformular melden.
URL:https://www.alaskan-malamute.org/event/zuchtzulassung-im-amc-e-v-reichshof-pfingsten-2022/
LOCATION:Hundeplatz Reichshof Niedersteimel\, Verein für Deutsche Schäferhunde Reichshof-Eckenhagen\, Reichshof Niedersteimel\, Nordrhein Westfalen\, 51580\, Deutschland
CATEGORIES:AMC Veranstaltungen
ATTACH;FMTTYPE=image/png:https://www.alaskan-malamute.org/wp-content/uploads/2018/11/250x250.png
ORGANIZER;CN="Alaskan%20Malamute%20Club%20e.V.":MAILTO:show@alaskan-malamute.org
END:VEVENT
END:VCALENDAR