BEGIN:VCALENDAR
VERSION:2.0
PRODID:-//Alaskan Malamute Club e.V. - ECPv6.2.1//NONSGML v1.0//EN
CALSCALE:GREGORIAN
METHOD:PUBLISH
X-ORIGINAL-URL:https://www.alaskan-malamute.org
X-WR-CALDESC:Veranstaltungen für Alaskan Malamute Club e.V.
REFRESH-INTERVAL;VALUE=DURATION:PT1H
X-Robots-Tag:noindex
X-PUBLISHED-TTL:PT1H
BEGIN:VTIMEZONE
TZID:Europe/Berlin
BEGIN:DAYLIGHT
TZOFFSETFROM:+0100
TZOFFSETTO:+0200
TZNAME:CEST
DTSTART:20210328T010000
END:DAYLIGHT
BEGIN:STANDARD
TZOFFSETFROM:+0200
TZOFFSETTO:+0100
TZNAME:CET
DTSTART:20211031T010000
END:STANDARD
END:VTIMEZONE
BEGIN:VEVENT
DTSTART;TZID=Europe/Berlin:20210523T083000
DTEND;TZID=Europe/Berlin:20210523T170000
DTSTAMP:20260424T172208
CREATED:20201027T132944Z
LAST-MODIFIED:20210406T124317Z
UID:30471-1621758600-1621789200@www.alaskan-malamute.org
SUMMARY:!!Abgesagt!! Clubshow AMC e.V. Reichshof Pfingsten 2021
DESCRIPTION:Am Sonntag den 23.05.2021 veranstaltet der Alaskan Malamute Club e.V. seine Clubshow\n\n\n\n\n\n\n\n\n\nmit Vergabe der Anwartschaften \nDeutscher Champion (VDH)\, Jugend-Champion (VDH)\,Veteranen-Champion (VDH)\, \nDeutscher Champion (AMC)\, Deutscher Jugend –Champion (AMC)\, Deutscher Veteranen Champion (AMC) \nerster Meldeschluss am 25.04.2021 (Eingang in Neunkirchen) \nzweiter (offizieller) Meldeschluss am 09.05.2021 (Eingang in Neunkirchen) \n\n\n\n\n\nZuchtrichter: Susanne Faust D \n  \n\n\nVorläufiger Tagesablauf: (Änderungen vorbehalten)\n\n\n\n\n\n\n\n\n8:30 Einlass der Hunde \nAb 8:30 Ringtraining für Anfänger durch Frau Semlinger Schrödl \n10:30 Beginn der Ausstellung \n\n\n\n\n\n\n\n\n\n\n\nIm Anschluss an das Richten findet eine ZZL statt\nbitte frühzeitig (mind. 4 Wochen vorher\, 25.04.2021) Meldungen zur ZZL. \nBitte über das Intranet mit Onlineformular melden. \nZur Ausschreibung
URL:https://www.alaskan-malamute.org/event/clubshow-amc-e-v-reichshof-2021/
LOCATION:Hundeplatz Reichshof Niedersteimel\, Verein für Deutsche Schäferhunde Reichshof-Eckenhagen\, Reichshof Niedersteimel\, Nordrhein Westfalen\, 51580\, Deutschland
ATTACH;FMTTYPE=image/jpeg:https://www.alaskan-malamute.org/wp-content/uploads/2019/11/ausstellung-drumherum-1.jpg
ORGANIZER;CN="Alaskan%20Malamute%20Club%20e.V.":MAILTO:show@alaskan-malamute.org
END:VEVENT
BEGIN:VEVENT
DTSTART;TZID=Europe/Berlin:20210523T140000
DTEND;TZID=Europe/Berlin:20210523T170000
DTSTAMP:20260424T172208
CREATED:20201027T174747Z
LAST-MODIFIED:20210406T124231Z
UID:30476-1621778400-1621789200@www.alaskan-malamute.org
SUMMARY:!!Abgesagt!! Zuchtzulassung im AMC e.V. Reichshof Pfingsten 2021
DESCRIPTION:Im Rahmen der Clubshow am 23.05.2021 findet die Zuchtzulassung im AMC e.V. statt.\nIm Anschluss an das Richten findet die ZZL statt\nbitte frühzeitig (mind. 4 Wochen vorher 25.04.2021) die Meldungen zur ZZL. \nBitte über das Intranet mit Onlineformular melden.
URL:https://www.alaskan-malamute.org/event/zuchtzulassung-im-amc-e-v-reichshof-pfingsten-2021/
LOCATION:Hundeplatz Reichshof Niedersteimel\, Verein für Deutsche Schäferhunde Reichshof-Eckenhagen\, Reichshof Niedersteimel\, Nordrhein Westfalen\, 51580\, Deutschland
CATEGORIES:AMC Veranstaltungen
ATTACH;FMTTYPE=image/png:https://www.alaskan-malamute.org/wp-content/uploads/2018/11/250x250.png
ORGANIZER;CN="ALASKAN%20MALAMUTE%20CLUB%20e.V.":MAILTO:mail@alaskan-malamute.org
END:VEVENT
END:VCALENDAR