BEGIN:VCALENDAR
VERSION:2.0
PRODID:-//Alaskan Malamute Club e.V. - ECPv6.2.1//NONSGML v1.0//EN
CALSCALE:GREGORIAN
METHOD:PUBLISH
X-ORIGINAL-URL:https://www.alaskan-malamute.org
X-WR-CALDESC:Veranstaltungen für Alaskan Malamute Club e.V.
REFRESH-INTERVAL;VALUE=DURATION:PT1H
X-Robots-Tag:noindex
X-PUBLISHED-TTL:PT1H
BEGIN:VTIMEZONE
TZID:Europe/Berlin
BEGIN:DAYLIGHT
TZOFFSETFROM:+0100
TZOFFSETTO:+0200
TZNAME:CEST
DTSTART:20200329T010000
END:DAYLIGHT
BEGIN:STANDARD
TZOFFSETFROM:+0200
TZOFFSETTO:+0100
TZNAME:CET
DTSTART:20201025T010000
END:STANDARD
END:VTIMEZONE
BEGIN:VEVENT
DTSTART;VALUE=DATE:20201107
DTEND;VALUE=DATE:20201109
DTSTAMP:20260425T052702
CREATED:20191212T103031Z
LAST-MODIFIED:20191212T103425Z
UID:30142-1604707200-1604879999@www.alaskan-malamute.org
SUMMARY:Internationale + Nationale Ausstellung Karlsruhe
DESCRIPTION:Internationale Ausstellung + Nationale Ausstellung Karlsruhe\n7./8. November 2020\nNationale Ausstellung – 7. November 2020\n7. November:    FCI-Gruppen 1\, 2\, 3\, 4\, 5\, 6\, 7\, 8\, 9\, 10 \n1. Meldeschluss    18. September 2020    (Meldegebühr: 35 Euro)\n2. Meldeschluss    3. Oktober 2020    (Meldegebühr: 45 Euro) \n\n\nInternationale Ausstellung – 8. November 2020\n8. November:    FCI-Gruppen 1\, 2\, 3\, 4\, 5\, 6\, 7\, 8\, 9\, 10\n \n1. Meldeschluss    18. September 2020    (Meldegebühr: 45 Euro)\n2. Meldeschluss    3. Oktober 2020    (Meldegebühr: 55 Euro) \n\n\n  \n\n\nKombinationsmeldung Internationale + Nationale Ausstellung\n1. Meldeschluss    18. September 2020    (Meldegebühr: 70 Euro)\n2. Meldeschluss    3. Oktober 2020    (Meldegebühr: 90 Euro)
URL:https://www.alaskan-malamute.org/event/internationale-nationale-ausstellung-karlsruhe/
LOCATION:Messe Karlsruhe\, Messeallee 1\, Rheinstetten\, 76287\, Deutschland
CATEGORIES:VDH Veranstaltungen
ATTACH;FMTTYPE=image/png:https://www.alaskan-malamute.org/wp-content/uploads/2019/12/VDH-BW.png
END:VEVENT
END:VCALENDAR