BEGIN:VCALENDAR
VERSION:2.0
PRODID:-//Alaskan Malamute Club e.V. - ECPv6.2.1//NONSGML v1.0//EN
CALSCALE:GREGORIAN
METHOD:PUBLISH
X-WR-CALNAME:Alaskan Malamute Club e.V.
X-ORIGINAL-URL:https://www.alaskan-malamute.org
X-WR-CALDESC:Veranstaltungen für Alaskan Malamute Club e.V.
REFRESH-INTERVAL;VALUE=DURATION:PT1H
X-Robots-Tag:noindex
X-PUBLISHED-TTL:PT1H
BEGIN:VTIMEZONE
TZID:Europe/Berlin
BEGIN:DAYLIGHT
TZOFFSETFROM:+0100
TZOFFSETTO:+0200
TZNAME:CEST
DTSTART:20200329T010000
END:DAYLIGHT
BEGIN:STANDARD
TZOFFSETFROM:+0200
TZOFFSETTO:+0100
TZNAME:CET
DTSTART:20201025T010000
END:STANDARD
END:VTIMEZONE
BEGIN:VEVENT
DTSTART;VALUE=DATE:20201016
DTEND;VALUE=DATE:20201019
DTSTAMP:20260425T034755
CREATED:20191212T101731Z
LAST-MODIFIED:20191212T112219Z
UID:30137-1602806400-1603065599@www.alaskan-malamute.org
SUMMARY:Bundessieger + Herbstsieger-Ausstellung Dortmund 16. - 18. Oktober 2020
DESCRIPTION:Bundessieger + Herbstsieger-Ausstellung Dortmund\n16. – 18. Oktober 2020\nHerbstsieger-Ausstellung – 16. – 18. Oktober 2020\n16. Oktober:    FCI-Gruppen 2\, 4\, 5 \n \n1. Meldeschluss    19. August 2020    (Meldegebühr: 50 Euro)\n2. Meldeschluss    9. September 2020    (Meldegebühr: 60 Euro) \n\n\nBundessieger-Ausstellung – 16. – 18. Oktober 2020\n\n18. Oktober:    FCI-Gruppen 2\, 4\, 5 \n1. Meldeschluss    19. August 2020    (Meldegebühr: 50 Euro)\n2. Meldeschluss    9. September 2020    (Meldegebühr: 60 Euro) \n\n\n  \n\n\nKombi: Bundessieger + Internationale Ausstellung 2018\n1. Meldeschluss    19. August 2020    (Meldegebühr: 85 Euro)\n2. Meldeschluss    9. September 2020    (Meldegebühr: 105 Euro) \nHier der Link zur Anreise Dortmund
URL:https://www.alaskan-malamute.org/event/bundessieger-herbstsieger-ausstellung-dortmund-16-18-oktober-2020/
LOCATION:VDH Dortmund\, Westfalenhallen\, Dortmund\, 44041\, Deutschland
CATEGORIES:VDH Veranstaltungen
ATTACH;FMTTYPE=image/jpeg:https://www.alaskan-malamute.org/wp-content/uploads/2019/12/VDH-Dortmund.jpg
END:VEVENT
END:VCALENDAR